BEGIN:VCALENDAR
VERSION:2.0
PRODID:-//Kinderhaus St. Johannes - ECPv6.15.20//NONSGML v1.0//EN
CALSCALE:GREGORIAN
METHOD:PUBLISH
X-ORIGINAL-URL:https://kinderhaus-sankt-johannes.de
X-WR-CALDESC:Veranstaltungen für Kinderhaus St. Johannes
REFRESH-INTERVAL;VALUE=DURATION:PT1H
X-Robots-Tag:noindex
X-PUBLISHED-TTL:PT1H
BEGIN:VTIMEZONE
TZID:Europe/Berlin
BEGIN:DAYLIGHT
TZOFFSETFROM:+0100
TZOFFSETTO:+0200
TZNAME:CEST
DTSTART:20250330T010000
END:DAYLIGHT
BEGIN:STANDARD
TZOFFSETFROM:+0200
TZOFFSETTO:+0100
TZNAME:CET
DTSTART:20251026T010000
END:STANDARD
BEGIN:DAYLIGHT
TZOFFSETFROM:+0100
TZOFFSETTO:+0200
TZNAME:CEST
DTSTART:20260329T010000
END:DAYLIGHT
BEGIN:STANDARD
TZOFFSETFROM:+0200
TZOFFSETTO:+0100
TZNAME:CET
DTSTART:20261025T010000
END:STANDARD
BEGIN:DAYLIGHT
TZOFFSETFROM:+0100
TZOFFSETTO:+0200
TZNAME:CEST
DTSTART:20270328T010000
END:DAYLIGHT
BEGIN:STANDARD
TZOFFSETFROM:+0200
TZOFFSETTO:+0100
TZNAME:CET
DTSTART:20271031T010000
END:STANDARD
END:VTIMEZONE
BEGIN:VEVENT
DTSTART;VALUE=DATE:20260515
DTEND;VALUE=DATE:20260516
DTSTAMP:20260422T133142
CREATED:20250718T073302Z
LAST-MODIFIED:20250718T073302Z
UID:6972-1778803200-1778889599@kinderhaus-sankt-johannes.de
SUMMARY:Schließtag Kinderhaus
DESCRIPTION:
URL:https://kinderhaus-sankt-johannes.de/event/schliesstag-kinderhaus-7/
LOCATION:Kinderhaus
CATEGORIES:Hort,Kindergarten,Kinderhaus,Krippe,Wald
END:VEVENT
BEGIN:VEVENT
DTSTART;VALUE=DATE:20260605
DTEND;VALUE=DATE:20260606
DTSTAMP:20260422T133142
CREATED:20250718T073349Z
LAST-MODIFIED:20250718T073349Z
UID:6974-1780617600-1780703999@kinderhaus-sankt-johannes.de
SUMMARY:Schließtag Kinderhaus
DESCRIPTION:
URL:https://kinderhaus-sankt-johannes.de/event/schliesstag-kinderhaus-8/
LOCATION:Kinderhaus
CATEGORIES:Hort,Kindergarten,Kinderhaus,Krippe,Wald
END:VEVENT
BEGIN:VEVENT
DTSTART;VALUE=DATE:20260628
DTEND;VALUE=DATE:20260629
DTSTAMP:20260422T133142
CREATED:20250722T083340Z
LAST-MODIFIED:20250722T083340Z
UID:7005-1782604800-1782691199@kinderhaus-sankt-johannes.de
SUMMARY:Kinderhausfest
DESCRIPTION:
URL:https://kinderhaus-sankt-johannes.de/event/kinderhausfest/
LOCATION:Schule\, Adam-Fell-Straße 5\, Johannesberg\, 63867
CATEGORIES:Hort,Kindergarten,Kinderhaus,Krippe,Wald
END:VEVENT
BEGIN:VEVENT
DTSTART;VALUE=DATE:20260717
DTEND;VALUE=DATE:20260718
DTSTAMP:20260422T133142
CREATED:20250722T082506Z
LAST-MODIFIED:20250722T082506Z
UID:6997-1784246400-1784332799@kinderhaus-sankt-johannes.de
SUMMARY:Schließtag Wald
DESCRIPTION:
URL:https://kinderhaus-sankt-johannes.de/event/schliesstag-wald/
LOCATION:Wald
CATEGORIES:Wald
END:VEVENT
BEGIN:VEVENT
DTSTART;VALUE=DATE:20260807
DTEND;VALUE=DATE:20260808
DTSTAMP:20260422T133142
CREATED:20250722T082748Z
LAST-MODIFIED:20250722T082748Z
UID:6999-1786060800-1786147199@kinderhaus-sankt-johannes.de
SUMMARY:Wald Aufräumtag
DESCRIPTION:
URL:https://kinderhaus-sankt-johannes.de/event/wald-aufraeumtag/
LOCATION:Wald
CATEGORIES:Wald
END:VEVENT
BEGIN:VEVENT
DTSTART;TZID=Europe/Berlin:20260807T073000
DTEND;TZID=Europe/Berlin:20260807T123000
DTSTAMP:20260422T133142
CREATED:20250718T073458Z
LAST-MODIFIED:20250718T073458Z
UID:6976-1786087800-1786105800@kinderhaus-sankt-johannes.de
SUMMARY:Kinderhaus schließt um 12:30 Uhr
DESCRIPTION:
URL:https://kinderhaus-sankt-johannes.de/event/kinderhaus-schliesst-um-1230-uhr-2/
LOCATION:Kinderhaus
CATEGORIES:Hort,Kindergarten,Kinderhaus,Krippe,Wald
END:VEVENT
BEGIN:VEVENT
DTSTART;VALUE=DATE:20260810
DTEND;VALUE=DATE:20260829
DTSTAMP:20260422T133142
CREATED:20250718T073610Z
LAST-MODIFIED:20250718T073610Z
UID:6978-1786320000-1787961599@kinderhaus-sankt-johannes.de
SUMMARY:Schließzeit Kinderhaus
DESCRIPTION:
URL:https://kinderhaus-sankt-johannes.de/event/schliesszeit-kinderhaus-2/
LOCATION:Kinderhaus
CATEGORIES:Hort,Kindergarten,Kinderhaus,Krippe,Wald
END:VEVENT
BEGIN:VEVENT
DTSTART;VALUE=DATE:20260915
DTEND;VALUE=DATE:20260916
DTSTAMP:20260422T133142
CREATED:20250718T073710Z
LAST-MODIFIED:20250718T073710Z
UID:6980-1789430400-1789516799@kinderhaus-sankt-johannes.de
SUMMARY:1. Schultag
DESCRIPTION:
URL:https://kinderhaus-sankt-johannes.de/event/1-schultag-2/
LOCATION:Schule\, Adam-Fell-Straße 5\, Johannesberg\, 63867
CATEGORIES:Hort,Kindergarten,Maxis
END:VEVENT
BEGIN:VEVENT
DTSTART;VALUE=DATE:20260925
DTEND;VALUE=DATE:20260926
DTSTAMP:20260422T133142
CREATED:20250718T073807Z
LAST-MODIFIED:20250718T073807Z
UID:6982-1790294400-1790380799@kinderhaus-sankt-johannes.de
SUMMARY:Schließtag Kinderhaus
DESCRIPTION:Betriebsausflug
URL:https://kinderhaus-sankt-johannes.de/event/schliesstag-kinderhaus-9/
LOCATION:Kinderhaus
CATEGORIES:Hort,Kindergarten,Kinderhaus,Krippe,Wald
END:VEVENT
BEGIN:VEVENT
DTSTART;VALUE=DATE:20261002
DTEND;VALUE=DATE:20261003
DTSTAMP:20260422T133142
CREATED:20250722T083021Z
LAST-MODIFIED:20250722T083021Z
UID:7003-1790899200-1790985599@kinderhaus-sankt-johannes.de
SUMMARY:Schließtag Wald
DESCRIPTION:
URL:https://kinderhaus-sankt-johannes.de/event/schliesstag-wald-5/
LOCATION:Wald
CATEGORIES:Wald
END:VEVENT
BEGIN:VEVENT
DTSTART;VALUE=DATE:20261011
DTEND;VALUE=DATE:20261012
DTSTAMP:20260422T133142
CREATED:20251024T082508Z
LAST-MODIFIED:20251024T082508Z
UID:7082-1791676800-1791763199@kinderhaus-sankt-johannes.de
SUMMARY:Erntedankfest
DESCRIPTION:
URL:https://kinderhaus-sankt-johannes.de/event/erntedankfest/
LOCATION:Wald
CATEGORIES:Hort,Kindergarten,Kinderhaus,Krippe,Wald
END:VEVENT
BEGIN:VEVENT
DTSTART;VALUE=DATE:20261118
DTEND;VALUE=DATE:20261119
DTSTAMP:20260422T133142
CREATED:20250718T075024Z
LAST-MODIFIED:20250718T075024Z
UID:6988-1794960000-1795046399@kinderhaus-sankt-johannes.de
SUMMARY:Buß- und Bettag
DESCRIPTION:Schulfrei
URL:https://kinderhaus-sankt-johannes.de/event/buss-und-bettag/
LOCATION:Hort\, Adam-Fell-Straße 5a\, Johannesberg\, BY\, 63867\, Deutschland
CATEGORIES:Hort
END:VEVENT
BEGIN:VEVENT
DTSTART;TZID=Europe/Berlin:20261223T073000
DTEND;TZID=Europe/Berlin:20261223T123000
DTSTAMP:20260422T133142
CREATED:20250718T073903Z
LAST-MODIFIED:20250718T074730Z
UID:6984-1798011000-1798029000@kinderhaus-sankt-johannes.de
SUMMARY:Kinderhaus schließt um 12:30 Uhr
DESCRIPTION:
URL:https://kinderhaus-sankt-johannes.de/event/kinderhaus-schliesst-um-1230-uhr-copy/
LOCATION:Kinderhaus
CATEGORIES:Hort,Kindergarten,Kinderhaus,Krippe,Wald
END:VEVENT
END:VCALENDAR